

BEGIN:VCALENDAR
VERSION:2.0
PRODID:-//Babour Tsion - ECPv6.15.13//NONSGML v1.0//EN
CALSCALE:GREGORIAN
METHOD:PUBLISH
X-ORIGINAL-URL:https://www.babour-tsion.com
X-WR-CALDESC:Évènements pour Babour Tsion
REFRESH-INTERVAL;VALUE=DURATION:PT1H
X-Robots-Tag:noindex
X-PUBLISHED-TTL:PT1H
BEGIN:VTIMEZONE
TZID:Europe/Paris
BEGIN:DAYLIGHT
TZOFFSETFROM:+0100
TZOFFSETTO:+0200
TZNAME:CEST
DTSTART:20240331T010000
END:DAYLIGHT
BEGIN:STANDARD
TZOFFSETFROM:+0200
TZOFFSETTO:+0100
TZNAME:CET
DTSTART:20241027T010000
END:STANDARD
BEGIN:DAYLIGHT
TZOFFSETFROM:+0100
TZOFFSETTO:+0200
TZNAME:CEST
DTSTART:20250330T010000
END:DAYLIGHT
BEGIN:STANDARD
TZOFFSETFROM:+0200
TZOFFSETTO:+0100
TZNAME:CET
DTSTART:20251026T010000
END:STANDARD
BEGIN:DAYLIGHT
TZOFFSETFROM:+0100
TZOFFSETTO:+0200
TZNAME:CEST
DTSTART:20260329T010000
END:DAYLIGHT
BEGIN:STANDARD
TZOFFSETFROM:+0200
TZOFFSETTO:+0100
TZNAME:CET
DTSTART:20261025T010000
END:STANDARD
END:VTIMEZONE
BEGIN:VEVENT
DTSTART;TZID=Europe/Paris:20250315T220000
DTEND;TZID=Europe/Paris:20250316T050000
DTSTAMP:20260425T012700
CREATED:20250305T214703Z
LAST-MODIFIED:20250416T093229Z
UID:19450-1742076000-1742101200@www.babour-tsion.com
SUMMARY:ALL NIGHT DUBBIN
DESCRIPTION:RDV Samedi 15 mars 2025 à la Clef Saint Germain En Laye (78) \nStand d’artisanat et Ital Food BABOUR TSION  \n« La soirée « All Night Dubbin » fait son grand retour à La CLEF après une 5ème édition réussie et sold out ; on a invité pour cette nouvelle nuit la sono verte de Jah Roots (le crew de Suisse) qui devrait faire des merveilles dans la fosse. Les murs de la grande salle vont de nouveau vibrer avec Iration Steppas\, le vétéran de la scène soundsystem anglaise. Souvent imité\, jamais égalé. A cela s’ajoute la voix captivante de Young Kulcha\, considéré comme l’un des chanteurs de reggae dub les plus prometteurs de sa génération ! \nIRATION STEPPAS (UK) \nMark Iration\, figure emblématique de la culture du dub progressif\, est l’âme créative derrière Iration Steppas.\nVisionnaire et frontman charismatique\, il a marqué des générations grâce à son approche innovante du dub et du reggae.\nAux côtés de Dennis Rootikal\, il a fondé Iration Steppas Sound System dans les 90’s\, un Sound System devenu une référence mondiale.\nLe duo a non seulement redéfini les codes du genre\, mais aussi inspiré une multitude de producteurs et de Sound Systems tels que O.B.F et Dubkasm.\nSous la direction de Mark\, Iration Steppas continue de repousser les limites techniques et artistiques\, offrant des performances inoubliables comme à sa Boiler Room remarquée en 2023. \nLien d’écoute► https://youtu.be/Jo4pEdzYBdw \nAutres liens► https://irationsteppas.co.uk► www.instagram.com/irationsteppas► www.facebook.com/vanguardofdub \nJAH ROOTS HIFI (CH) \nJah Roots HiFi voit le jour en 2002 à Neufchâtel (Suisse)\, déterminé et engagé à promouvoir le reggae et surtout la culture Sound System. Leur sélection pointue va des racines des 70’s aux sons plus digitaux\, le tout avec un message spirituel et chaleureux. Ces passionnés viendront pour la toute 1ère fois en région parisienne avec leur sono de conception artisanale qui sera installée dans la fosse pour l’occasion\, un classique « All Night Dubbin » ! \nLien d’écoute► https://youtu.be/HUqRHEEzyjI \nAutres liens► www.facebook.com/jahrootshifiofficial► www.instagram.com/jah_roots_hifi \nYOUNG KULCHA \nYoung Kulcha est un jeune chanteur et un DJ originaire du sud de la France\, basé aujourd’hui en Suisse. A son actif plusieurs release aux côtés de producteurs talentueux tels que Kanka\, Riddim Activist dont un EP « rise Up » sorti en 2017. Une voix pleine de couleurs qui portera les messages forts de cette soirée que l’on attend avec impatience ! \nLien d’écoute► https://youtu.be/FxtuZFh0buQ \nAutres liens► www.facebook.com/p/Young-Kulch► www.instagram.com/youngkulcha.music \nSource texte : Agenda La Clef Saint Germain En Laye
URL:https://www.babour-tsion.com/event/all-night-dubbin/
LOCATION:LA CLEF\, 46 RUE MAREIL\, Saint Germain En Laye\, 78100\, France
ATTACH;FMTTYPE=image/jpeg:https://www.babour-tsion.com/wp-content/uploads/2025/03/DUB.jpg
END:VEVENT
END:VCALENDAR