

BEGIN:VCALENDAR
VERSION:2.0
PRODID:-//Babour Tsion - ECPv6.15.13//NONSGML v1.0//EN
CALSCALE:GREGORIAN
METHOD:PUBLISH
X-ORIGINAL-URL:https://www.babour-tsion.com
X-WR-CALDESC:Évènements pour Babour Tsion
REFRESH-INTERVAL;VALUE=DURATION:PT1H
X-Robots-Tag:noindex
X-PUBLISHED-TTL:PT1H
BEGIN:VTIMEZONE
TZID:Europe/Paris
BEGIN:DAYLIGHT
TZOFFSETFROM:+0100
TZOFFSETTO:+0200
TZNAME:CEST
DTSTART:20230326T010000
END:DAYLIGHT
BEGIN:STANDARD
TZOFFSETFROM:+0200
TZOFFSETTO:+0100
TZNAME:CET
DTSTART:20231029T010000
END:STANDARD
BEGIN:DAYLIGHT
TZOFFSETFROM:+0100
TZOFFSETTO:+0200
TZNAME:CEST
DTSTART:20240331T010000
END:DAYLIGHT
BEGIN:STANDARD
TZOFFSETFROM:+0200
TZOFFSETTO:+0100
TZNAME:CET
DTSTART:20241027T010000
END:STANDARD
BEGIN:DAYLIGHT
TZOFFSETFROM:+0100
TZOFFSETTO:+0200
TZNAME:CEST
DTSTART:20250330T010000
END:DAYLIGHT
BEGIN:STANDARD
TZOFFSETFROM:+0200
TZOFFSETTO:+0100
TZNAME:CET
DTSTART:20251026T010000
END:STANDARD
END:VTIMEZONE
BEGIN:VEVENT
DTSTART;TZID=Europe/Paris:20240430T183000
DTEND;TZID=Europe/Paris:20240501T020000
DTSTAMP:20260425T173137
CREATED:20240416T083502Z
LAST-MODIFIED:20250311T084244Z
UID:18639-1714501800-1714528800@www.babour-tsion.com
SUMMARY:CHEZIDEK / WARRIOR KING / TALLOJAH
DESCRIPTION:MAY.B UNITY PRODUCTION présente : UNITY REGGAE LIVE SHOW le mardi 30 AVRIL 2024 au KILOWATT/ Vitry Sur Seine (94) \navec CHEZIDEK\, WARRIOR KING et en première partie Tallojah\, Tim Ray Brown\, Big Desal\, Sya\, MR Yuzimi \nWarm Up : Akmata Jugglerz \nStand d’artisanat éthiopien BABOUR TSION
URL:https://www.babour-tsion.com/event/chezidek-warrior-king-tallojah/
LOCATION:LE HANGAR\, 3/5 rue Raspail\, Ivry Sur Seine\, 94200\, France
ATTACH;FMTTYPE=image/png:https://www.babour-tsion.com/wp-content/uploads/2024/04/DAT_23934_mod2.png
END:VEVENT
BEGIN:VEVENT
DTSTART;TZID=Europe/Paris:20240511T190000
DTEND;TZID=Europe/Paris:20240511T234500
DTSTAMP:20260425T173137
CREATED:20240323T201647Z
LAST-MODIFIED:20250311T084053Z
UID:17916-1715454000-1715471100@www.babour-tsion.com
SUMMARY:MACKA B / ROMEO K / FRANCK JARO
DESCRIPTION:Samedi 11 mai 2024 – MACKA B + ROMEO K  & THE MYSTIK WARRIORS + FRANCK JARO en concert+ I LOVE SOUND au NEW MORNING (Paris 10ème).   \nStand d’artisanat éthiopien BABOUR TSION \nL’un des incontournables jamaïcains parmi les DJ anglais Macka B vous donne rdv au New Morning le samedi 11 mai 2024. Sur le même plateau Romeo K & The Mystik Warriors- Frank Jaro – I Love Sound pour compléter la garniture de la soirée. \nMacka B (de son vrai nom Christopher MacFarlane) est un chanteur britannique. \nNé à Wolverhampton\, près de Birmingham de parents jamaïcains immigrés en Angleterre. Macka B a puisé son inspiration dans la musique de U Roy\, I Roy\, Big Youth et d’autres djs roots. Il se met à écrire ses textes en 1982 après un voyage en Jamaïque qui fut marquant pour sa carrière d’artiste. Macka B accumule les succès et les récompenses. En 1991 et 1992\, il reçoit le titre de meilleur DJ Reggae. \nIl a participé à l’album Résistances du groupe français Sinsemilia. \nAu plaisir de vous retrouver nombreux sur notre stand d’artisanat éthiopien. De nouveaux articles à découvrir : écharpes traditionnelles\, bonnets\, encens\, café\, bijoux …
URL:https://www.babour-tsion.com/event/macka-b-romeo-k-franck-jaro/
LOCATION:New Morrning\, 7/9 rur des petites écuries\, Paris\, 75010
ATTACH;FMTTYPE=image/jpeg:https://www.babour-tsion.com/wp-content/uploads/2024/03/macka-B.jpg
END:VEVENT
BEGIN:VEVENT
DTSTART;TZID=Europe/Paris:20240511T203000
DTEND;TZID=Europe/Paris:20240511T233000
DTSTAMP:20260425T173137
CREATED:20240323T190056Z
LAST-MODIFIED:20250311T084420Z
UID:17772-1715459400-1715470200@www.babour-tsion.com
SUMMARY:META DIA & THE CORNERSTONES- LIDIOP
DESCRIPTION:Samedi 11 mai 2024: META DIA & THE CORNERSTONES + LIDIOP en concert à l’ODEON/ Tremblay en France (93). \nStand d’artisanat éthiopien BABOUR TSION \nMETA & THE CORNERSTONES \nMeta & the Cornerstones est un groupe de reggae mondialement reconnu dirigé par le charismatique et talentueux Meta Dia. Meta Dia est né et a grandi au Sénégal\, il a été influencé par les riches traditions musicales de son pays dès son plus jeune âge. \nIl s’installe à New York en 2002 où il s’enrichit du melting-pot culturel\, de l’improvisation du jazz\, de l’énergie brute du rock\, du propos du hip-hop et des rythmes du monde. META & THE CORNERSTONES est issu de la force de ces rencontres. \nLeur premier album intitulé «Forward Music» salué par la critique\, dynamise la scène reggae avec un mélange de roots reggae et d’influences africaines. \nEn 2013\, l’album «Ancient Power» sera enregistré aux studios Tuff Gong à Kingston\, en Jamaïque\, et coproduit par Sidney Mills (Steel Pulse). Cet album de 15 titres comprend des légendes telles que U-Roy\, Capleton et Damian Marley. En 2024\, META & THE CORNERSTONES passe par la Scène de L’Odéon et nous donnera\, en exclusivité\, un avant-goût de son nouveau projet accompagné de « special guests ». \nLIDIOP \nLidiop\, musicien sénégalais\, bercé par les traditions musicales africaines\, s’est fait remarquer dans le métro parisien avec sa guitare et sa voix mêlant reggae\, dancehall\, rnb\, afro\, et pop. \nGénéreux et sincère\, son art captivant a uni les usagers\, générant un engouement sur les réseaux sociaux et des milliers de vues sur You- Tube. Participant à des projets tels que les 20 ans des musiciens du métro à l’Olympia et les Solidays\, Lidiop a reçu l’approbation d’artistes tels que Maître Gims et Slimane. \nTarif réduit : 15€\nPlein tarif : 18€
URL:https://www.babour-tsion.com/event/meta-dia-the-cornerstones-premiere-partie-lidiop/
LOCATION:L’ODEON\, 1\, place du Bicentenaire de la Révolution Française\, Tremblay-en-France\, 93290\, France
ATTACH;FMTTYPE=image/jpeg:https://www.babour-tsion.com/wp-content/uploads/2024/03/META_DIA.jpeg
END:VEVENT
BEGIN:VEVENT
DTSTART;TZID=Europe/Paris:20240512T120000
DTEND;TZID=Europe/Paris:20240512T200000
DTSTAMP:20260425T173137
CREATED:20240508T072419Z
LAST-MODIFIED:20250311T084159Z
UID:19193-1715515200-1715544000@www.babour-tsion.com
SUMMARY:Journée Artistes et Citoyens Contre l'Esclavage
DESCRIPTION:L’association « un passé trop présent » présente une journée Artistes et Citoyens Contre l’Esclavage\,\nDimanche 12 mai 2024\, 12h a 20h au Parc des Epivans à Fontenay sous bois 94120\n\n« Célébration de la loi Taubira et de tous les acteurs des luttes pour la liberté. Après 400 ans de traite négrière\, il faudra plus d’un siècle et demi après son abolition\, pour que cette pratique soit reconnue comme crime contre l’humanité (vaut mieux tard que jamais). Cette reconnaissance constitue une avancé remarquable. Néanmoins la route reste longue pour parvenir à réparer ces injustices\, et celle qu’elles ont engendrée.  L’actualité nous rappelle régulièrement que ce passé reste bien présent\, car il reste malheureusement l’un des socles de nos sociétés. »\nRassemblement festif pour rappeler l’histoire et honorer la mémoire de tous les combattants de la liberté et de l’émancipation des peuples\, et perpétuer le combat.\n\nJeux du monde du monde entier en bois pour enfants (Kalumba)\nPrises de parole : Des moments de réflexion et de partage\, mettant en lumière les enjeux actuels et historiques de l’esclavage et des luttes pour la liberté.\nVillage associatif et exposition : Un espace de rencontre avec des associations engagées dans la lutte contre l’esclavage et pour la promotion des droits humains.\n\nBabour Tsion aura l’honneur d’être présent à cette journée de célébration pour échanger sur ses actions de solidarité internationale en Ile de France et en Ethiopie.\n\nConcert en plein air:\nMix Reggae\, Bloco Verde (batucada militante)\, Déborah Zloto (chanson)\nBalakatum (Percussion Afro Uruguayenne)\, Matt Satsat Ladino Social Club (#UkuleleGotZSoul)\,\nLilP (Rap)\, Isaora (Bélé Martinque)\,\nRicky (Saïsaï) – Sniper – Guive (Rub A Dub Social Club)\n\nEntrée gratuite
URL:https://www.babour-tsion.com/event/journee-artistes-et-citoyens-contre-lesclavage/
LOCATION:parc des épivans\, Fontenau sous Bois\, 94120\, France
ATTACH;FMTTYPE=image/jpeg:https://www.babour-tsion.com/wp-content/uploads/2024/05/12mai_page-0001.jpg
END:VEVENT
BEGIN:VEVENT
DTSTART;TZID=Europe/Paris:20240525T203000
DTEND;TZID=Europe/Paris:20240525T230000
DTSTAMP:20260425T173137
CREATED:20240323T191316Z
LAST-MODIFIED:20250311T084012Z
UID:17535-1716669000-1716678000@www.babour-tsion.com
SUMMARY:YANISS ODUA
DESCRIPTION:SAMEDI 25 MAI 2024 YANISS ODUA en concert à l’espace culturel Musique et Danse (Deux Pièces Cuisine) Le Blanc Mesnil 93. \nRetrouvez les membres de l’association sur le stand pour échanger sur nos actions et découvrir l’artisanat éthiopien : écharpes traditionnelles\, bonnets\, encens\, café\, vêtements\, bijoux… \nToutes les ventes contribuent directement à notre projet solidaire en faveur des enfants d’Ethiopie. \nBiographie  \n« Peu d’artistes reggae en France peuvent se targuer d’avoir autant de véritables hits dans leur discographie que Yaniss Odua. \n« La Caraïbe »\, « Rouge Jaune Vert »\, « Chalawa » (cumulant à eux 3 près de 100 millions de vues sur Youtube) sont autant de big tunes que la foule scande en chœur à l’occasion de ses shows\, toujours généreux et dynamiques. \nEn près de 30 ans de carrière (Yaniss a commencé à l’âge de 10 ans aux côtés de son cousin Daddy Harry en Martinique)\, Yaniss Odua a su créer un lien unique avec le public français. \nQue ce soit sur ses terres caribéennes\, dans l’Hexagone ou le reste des territoires où il a pu tourner\, l’artiste martiniquais marque par son authenticité non feinte\, des textes qui parlent à tout un chacun\, posés sur des productions musicales toujours soignées\, alliant les racines du Reggae avec des sonorités dans l’ère du temps. \nEt pour cause\, il s’entoure sans cesse des meilleurs talents du genre\, tel le légendaire producteur Clive Hunt en Jamaïque (Jimmy Cliff\, Alpha Blondy\, Rolling Stones\, Grace Jones\, Khaled…)\, mais aussi de jeunes magiciens français du son comme Kahifa ou Ayema. \nToujours à l’affût de nouvelles rencontres\, expériences et désireux de partager ses vibrations avec des artistes ayant les mêmes valeurs\, on a pu le voir collaborer avec les plus grands artistes internationaux parmi lesquels Ky-Mani Marley\, Tiken Jah Fakoly ou Keny Arkana. \nDe « Yon Pa Yon » (2002) à « Nouvelle Donne » (2017)\, en passant par « Moment Idéal » (2013)\, et tous les albums et projets collaboratifs auquel il a participé\, Yaniss Odua garde le sourire malgré les aléas de la vie. Artiste conscient et engagé\, il demeure positif en souhaitant dépasser\, tout en les dénonçant\, les injustices qu’il rencontre ou qu’il a subi. \nSon nouvel album « Stay High »\, dont la sortie est prévue le 13 mai 2022\, ne fait pas exception à la règle. Avec cet opus\, Yaniss prend un tournant illustré par un Reggae moderne et inspiré. \nDanakil\, Dub Inc\, Kalash ou encore Flavia Coelho lui apportent leur confiance sur des titres plus que convaincants. Dans un style qualifié de « Futu’Roots »\, où les instrumentales sont sublimées par des textes aussi riches que touchants\, Yaniss se dévoile de manière intime\, tout en se voulant passeur de messages\, constructeur de ponts entre les humains\, les cultures et les genres musicaux. \nUne pièce d’art qui marquera son époque. » \nBiographie par Reggae.fr / Officielle \n  \n  \nTarif réduit : 7.36€\nPlein tarif : 13.42€
URL:https://www.babour-tsion.com/event/yaniss-odua-en-concert/
LOCATION:Deux Pièces Cuisine\, 42 RUE PAUL VAILLANT COURTURIER\, Le Blanc Mesnil\, 93150\, France
ATTACH;FMTTYPE=image/jpeg:https://www.babour-tsion.com/wp-content/uploads/2024/04/FB_IMG_1712731381034.jpg
END:VEVENT
END:VCALENDAR