

BEGIN:VCALENDAR
VERSION:2.0
PRODID:-//Babour Tsion - ECPv6.15.13//NONSGML v1.0//EN
CALSCALE:GREGORIAN
METHOD:PUBLISH
X-WR-CALNAME:Babour Tsion
X-ORIGINAL-URL:https://www.babour-tsion.com
X-WR-CALDESC:Évènements pour Babour Tsion
REFRESH-INTERVAL;VALUE=DURATION:PT1H
X-Robots-Tag:noindex
X-PUBLISHED-TTL:PT1H
BEGIN:VTIMEZONE
TZID:Europe/Paris
BEGIN:DAYLIGHT
TZOFFSETFROM:+0100
TZOFFSETTO:+0200
TZNAME:CEST
DTSTART:20230326T010000
END:DAYLIGHT
BEGIN:STANDARD
TZOFFSETFROM:+0200
TZOFFSETTO:+0100
TZNAME:CET
DTSTART:20231029T010000
END:STANDARD
BEGIN:DAYLIGHT
TZOFFSETFROM:+0100
TZOFFSETTO:+0200
TZNAME:CEST
DTSTART:20240331T010000
END:DAYLIGHT
BEGIN:STANDARD
TZOFFSETFROM:+0200
TZOFFSETTO:+0100
TZNAME:CET
DTSTART:20241027T010000
END:STANDARD
BEGIN:DAYLIGHT
TZOFFSETFROM:+0100
TZOFFSETTO:+0200
TZNAME:CEST
DTSTART:20250330T010000
END:DAYLIGHT
BEGIN:STANDARD
TZOFFSETFROM:+0200
TZOFFSETTO:+0100
TZNAME:CET
DTSTART:20251026T010000
END:STANDARD
END:VTIMEZONE
BEGIN:VEVENT
DTSTART;TZID=Europe/Paris:20240615T180000
DTEND;TZID=Europe/Paris:20240616T043000
DTSTAMP:20260425T153542
CREATED:20240323T191205Z
LAST-MODIFIED:20251219T174735Z
UID:17518-1718474400-1718512200@www.babour-tsion.com
SUMMARY:VIVRE ENSEMBLE EN MUSIQUE
DESCRIPTION:L’association BABOUR TSION  présente  « VIVRE ENSEMBLE EN MUSIQUE » un évènement musical solidaire en faveur des enfants d’Ethiopie. \nRendez-vous le SAMEDI 15 JUIN 2024 de 18H00 à 04H30 à la Marbrerie\, Montreuil (93). \nUne belle occasion pour mettre en lumière la solidarité internationale et la  musique comme un fabuleux vecteur de communication pour faire rayonner la diversité culturelle et notamment la culture afro caribéenne sur le département de  Seine Saint Denis. \nAu programme :\nGUIVE AND THE ORA (bio) / SISTA JAHAN (bio) / JUNIOR ROY (bio) / BARON BLACK (bio) / I LOVE SOUND (bio) / DREAD NAHFALL (bio) / SISTA BLUNTY (bio) / NEBOTY ROOTS SOUND (bio) / NURSTACRIS SELECTRESS (CH) (bio) / Gwo Ka R. COLINE (bio)\n \nNyabinghi\, Live & Acoustique\, Sound System all night \nAtelier de calligraphie\, exposition photos/peintures :E. GUILLARD\, R. BRUI (bio)\, JAYON’I \nStands d’artisanat et culturels & Restauration sur place \nREGGAE // ROOTS // SKA // OLDSCHOOL // STEPPERS // NEW ROOTS \nOn vous attend nombreux pour partager avec nous une soirée mémorable! \n▬▬ INFOS PRATIQUES ▬▬\n Ouverture des portes 18h Cantine : 19h30-21h30 Dernière entrée : 3h30 Paiement bar et cantine en CB uniquement\n\n▬▬ TARIFS ▬▬\nEarly Bird (jusqu’au 15 mai) : 20€Prévente : 22€Sur place : 25€After party (à partir de 23h30) : 12€\n\nBILLETERIE\nLa Marbrerie – Vivre Ensemble en Musique
URL:https://www.babour-tsion.com/event/evenement-musical-solidaire/
LOCATION:Marbrerire\, 21 rue Alexis Lepère\, Montreuil\, 93100
ATTACH;FMTTYPE=image/jpeg:https://www.babour-tsion.com/wp-content/uploads/2024/04/Visuel-carre-Insat-1.jpg
ORGANIZER;CN="Association BABOUR TSION":MAILTO:contact@babourt-tsion.com
END:VEVENT
END:VCALENDAR