

BEGIN:VCALENDAR
VERSION:2.0
PRODID:-//Babour Tsion - ECPv6.15.13//NONSGML v1.0//EN
CALSCALE:GREGORIAN
METHOD:PUBLISH
X-ORIGINAL-URL:https://www.babour-tsion.com
X-WR-CALDESC:Évènements pour Babour Tsion
REFRESH-INTERVAL;VALUE=DURATION:PT1H
X-Robots-Tag:noindex
X-PUBLISHED-TTL:PT1H
BEGIN:VTIMEZONE
TZID:Europe/Paris
BEGIN:DAYLIGHT
TZOFFSETFROM:+0100
TZOFFSETTO:+0200
TZNAME:CEST
DTSTART:20240331T010000
END:DAYLIGHT
BEGIN:STANDARD
TZOFFSETFROM:+0200
TZOFFSETTO:+0100
TZNAME:CET
DTSTART:20241027T010000
END:STANDARD
BEGIN:DAYLIGHT
TZOFFSETFROM:+0100
TZOFFSETTO:+0200
TZNAME:CEST
DTSTART:20250330T010000
END:DAYLIGHT
BEGIN:STANDARD
TZOFFSETFROM:+0200
TZOFFSETTO:+0100
TZNAME:CET
DTSTART:20251026T010000
END:STANDARD
BEGIN:DAYLIGHT
TZOFFSETFROM:+0100
TZOFFSETTO:+0200
TZNAME:CEST
DTSTART:20260329T010000
END:DAYLIGHT
BEGIN:STANDARD
TZOFFSETFROM:+0200
TZOFFSETTO:+0100
TZNAME:CET
DTSTART:20261025T010000
END:STANDARD
END:VTIMEZONE
BEGIN:VEVENT
DTSTART;TZID=Europe/Paris:20250906T120000
DTEND;TZID=Europe/Paris:20250906T190000
DTSTAMP:20260424T135521
CREATED:20250719T164351Z
LAST-MODIFIED:20250719T195652Z
UID:19517-1757160000-1757185200@www.babour-tsion.com
SUMMARY:JOURNEE des ASSOCIATIONS  et des INITIATIVES CITOYENNES de MONTREUIL
DESCRIPTION:Le samedi 6 septembre 2025 : Un Rendez-vous incontournable de Montreuil avec la journée des associations et des initiatives citoyennes. \nCette journée met à l’honneur la richesse et la diversité de la population de Montreuil avec plus de 200 associations présentes sur la place de la mairie. \nUn moment convivial propice aux échanges et à la découverte des cultures du monde : stands d’informations et animations\, restauration\, passages sur scène\, diverses démonstrations et déambulations… \nLes membres de BABOUR TSION vous présenteront toutes les actions réalisées en Ile de France et en faveur des enfants de Shashamene en Ethiopie. Dégustation de plats végétariens et découverte des nouveaux articles sur notre stand d’artisanat éthiopien. \nToutes les ventes participent directement à la pérennisation de nos interventions de solidarité internationale.
URL:https://www.babour-tsion.com/event/journee-des-associations-et-des-initiatives-citoyennes-de-montreuil/
LOCATION:place Jean Jaurès 93100 MONTREUIL
ATTACH;FMTTYPE=image/jpeg:https://www.babour-tsion.com/wp-content/uploads/2025/05/csm_logo_montreuil_510_a9f835cb12.jpg
END:VEVENT
END:VCALENDAR