

BEGIN:VCALENDAR
VERSION:2.0
PRODID:-//Babour Tsion - ECPv6.15.13//NONSGML v1.0//EN
CALSCALE:GREGORIAN
METHOD:PUBLISH
X-WR-CALNAME:Babour Tsion
X-ORIGINAL-URL:https://www.babour-tsion.com
X-WR-CALDESC:Évènements pour Babour Tsion
REFRESH-INTERVAL;VALUE=DURATION:PT1H
X-Robots-Tag:noindex
X-PUBLISHED-TTL:PT1H
BEGIN:VTIMEZONE
TZID:Europe/Paris
BEGIN:DAYLIGHT
TZOFFSETFROM:+0100
TZOFFSETTO:+0200
TZNAME:CEST
DTSTART:20240331T010000
END:DAYLIGHT
BEGIN:STANDARD
TZOFFSETFROM:+0200
TZOFFSETTO:+0100
TZNAME:CET
DTSTART:20241027T010000
END:STANDARD
BEGIN:DAYLIGHT
TZOFFSETFROM:+0100
TZOFFSETTO:+0200
TZNAME:CEST
DTSTART:20250330T010000
END:DAYLIGHT
BEGIN:STANDARD
TZOFFSETFROM:+0200
TZOFFSETTO:+0100
TZNAME:CET
DTSTART:20251026T010000
END:STANDARD
BEGIN:DAYLIGHT
TZOFFSETFROM:+0100
TZOFFSETTO:+0200
TZNAME:CEST
DTSTART:20260329T010000
END:DAYLIGHT
BEGIN:STANDARD
TZOFFSETFROM:+0200
TZOFFSETTO:+0100
TZNAME:CET
DTSTART:20261025T010000
END:STANDARD
END:VTIMEZONE
BEGIN:VEVENT
DTSTART;TZID=Europe/Paris:20251107T200000
DTEND;TZID=Europe/Paris:20251107T200000
DTSTAMP:20260424T104116
CREATED:20250718T130021Z
LAST-MODIFIED:20250912T063615Z
UID:19597-1762545600-1762545600@www.babour-tsion.com
SUMMARY:THE CIMARONS + SELEKTA KTY
DESCRIPTION:Les membres de BABOUR TSION auront le plaisir de vous retrouver le vendredi 7 novembre 2025 au concert de THE CIMARONS + SELEKTA KTY au Hangar/ Ivry Sur Seine (94). Toutes les ventes d’artisanat contribuent directement à nos projets de solidarité internationale en faveur des enfants d’Ethiopie. \n« Groupe légendaire fondé en 1967 à Londres par des musiciens jamaïcains\, The Cimarons est reconnu comme le premier groupe de reggae d’Europe. Véritables pionniers du genre sur le sol britannique\, ils ont contribué à façonner le son du reggae avec un nombre impressionnant de morceaux pour le mythique label Trojan Records. \nTout au long de leur carrière\, ils ont collaboré avec les plus grands noms : Bob Marley\, Jimmy Cliff\, Dennis Brown\, Lee “Scratch” Perry\, Toots Hibbert\, et même Paul McCartney (producteur de l’album Reggaebility en 1981). \nOn les retrouve en 2025\, toujours sur scène\, portés par deux membres fondateurs\, Franklyn Dunn (basse) et Locksley Gichie (guitare) et accompagnés d’un nouveau chanteur à la voix puissante : Michael Arkk. \nAvec « Harder Than The Rock » leur dernier album enregistré et mixé par Roberto Sánchez au A-Lone Ark Muzik Studio\, The Cimarons offrent sur scène une énergie rare qui transporte le public au cœur de l’âge d’or du reggae roots ! » \nExtrait du site du Hangar
URL:https://www.babour-tsion.com/event/the-cimarons-selekta-kty/
LOCATION:LE HANGAR\, 3/5 rue Raspail\, Ivry Sur Seine\, 94200\, France
ATTACH;FMTTYPE=image/jpeg:https://www.babour-tsion.com/wp-content/uploads/2025/07/512996334_10233962440595243_4509219544220503724_n.jpg
END:VEVENT
END:VCALENDAR