

BEGIN:VCALENDAR
VERSION:2.0
PRODID:-//Babour Tsion - ECPv6.15.13//NONSGML v1.0//EN
CALSCALE:GREGORIAN
METHOD:PUBLISH
X-ORIGINAL-URL:https://www.babour-tsion.com
X-WR-CALDESC:Évènements pour Babour Tsion
REFRESH-INTERVAL;VALUE=DURATION:PT1H
X-Robots-Tag:noindex
X-PUBLISHED-TTL:PT1H
BEGIN:VTIMEZONE
TZID:Europe/Paris
BEGIN:DAYLIGHT
TZOFFSETFROM:+0100
TZOFFSETTO:+0200
TZNAME:CEST
DTSTART:20250330T010000
END:DAYLIGHT
BEGIN:STANDARD
TZOFFSETFROM:+0200
TZOFFSETTO:+0100
TZNAME:CET
DTSTART:20251026T010000
END:STANDARD
BEGIN:DAYLIGHT
TZOFFSETFROM:+0100
TZOFFSETTO:+0200
TZNAME:CEST
DTSTART:20260329T010000
END:DAYLIGHT
BEGIN:STANDARD
TZOFFSETFROM:+0200
TZOFFSETTO:+0100
TZNAME:CET
DTSTART:20261025T010000
END:STANDARD
BEGIN:DAYLIGHT
TZOFFSETFROM:+0100
TZOFFSETTO:+0200
TZNAME:CEST
DTSTART:20270328T010000
END:DAYLIGHT
BEGIN:STANDARD
TZOFFSETFROM:+0200
TZOFFSETTO:+0100
TZNAME:CET
DTSTART:20271031T010000
END:STANDARD
END:VTIMEZONE
BEGIN:VEVENT
DTSTART;TZID=Europe/Paris:20260313T203000
DTEND;TZID=Europe/Paris:20260313T203000
DTSTAMP:20260420T080600
CREATED:20260311T185156Z
LAST-MODIFIED:20260311T185156Z
UID:21001-1773433800-1773433800@www.babour-tsion.com
SUMMARY:MO'KALAMITY
DESCRIPTION:Retrouvez nos membres sur le stand d’artisanat BABOUR TSION le vendredi 13 mars 2026 au concert de MO KALAMITY + LIA MOON en 1ère partie  \n« Mo’Kalamity & The Wizards\nL’artiste cap-verdienne installée à Paris\, trace un sillon singulier dans le reggae indépendant. À travers des chansons puissantes et méditatives\, elle mêle rythmes caribéens et afro-américains\, textes engagés et énergie spirituelle. Son cinquième album Shine reflète cette quête d’authenticité\, nourrie de ses voyages de Kingston à New York. Sur scène\, sa présence captivante nous relie à une conscience collective\, portée par une musique à la fois ancrée et transcendante.\n____________________________________________________________ \nPremière partie : Lia Moon\nLa DJ\, productrice et multi-instrumentiste propose une expérience live hypnotique où se croisent flûte traversière\, dub steppa\, électro et groove planant. Révélée aux côtés d’artistes comme Wax Tailor\, David Walters ou Alpha Blondy\, elle présente sur scène un tout nouvel EP 100% dub\, entre puissance rythmique et envolées poétiques. » \nSource texte : site le Hangar
URL:https://www.babour-tsion.com/event/mokalamity/
LOCATION:LE HANGAR\, 3/5 rue Raspail\, Ivry Sur Seine\, 94200\, France
ATTACH;FMTTYPE=image/jpeg:https://www.babour-tsion.com/wp-content/uploads/2026/03/csm_hangar-1500-concerts-MOKALAMITY-Alexandre_Desjardins-260126_cda5b7fce6.jpg
END:VEVENT
BEGIN:VEVENT
DTSTART;TZID=Europe/Paris:20260322T183000
DTEND;TZID=Europe/Paris:20260322T183000
DTSTAMP:20260420T080600
CREATED:20260309T102125Z
LAST-MODIFIED:20260311T185322Z
UID:20993-1774204200-1774204200@www.babour-tsion.com
SUMMARY:MICAH SHEMAIAH
DESCRIPTION:Les membres de BABOUR TSION  vous donne RDV au concert de Micah Shemaiah le dimanche 22 mars 2026 au New Morning/ Paris. ouverture des portes 18H30.  \nDe nouveaux articles sur le stand d’artisanat (écharpes\, café\, croix éthiopiennes…) \nMerci à Mami Watta et au New Morning pour leur soutien. \n« Le New Morning accueille pour la première fois en France l’artiste jamaïcain Micah Shemaiah\, figure incontournable du reggae Roots moderne. Issu de Kingston et profondément ancré dans la tradition Rastafari\, Micah fait partie de ces artistes rares qui parviennent à combiner spiritualité\, puissance vocale et authenticité. \nSa musique\, inspirée des racines les plus pures du reggae\, a conquis les scènes internationales : Rototom Sunsplash\, Reggae Jam\, Uprising\, Sziget… Avec des titres devenus emblématiques et un son à la fois vintage et vibrant\, Micah Shemaiah perpétue l’âme du reggae de façon unique. \nAccompagné de son groupe The Dreadites\, il offrira au public parisien un concert intense\, chaleureux et profondément inspirant.\nUne soirée où le Roots reprend vie sous sa forme la plus authentique. \nNe manquez pas cet événement : la première date française d’un artiste déjà culte pour les amateurs de reggae. » \nTexte source : site du New Morning
URL:https://www.babour-tsion.com/event/micah-shemaiah/
ATTACH;FMTTYPE=image/jpeg:https://www.babour-tsion.com/wp-content/uploads/2026/03/CONCERT-MICAH.jpg
END:VEVENT
END:VCALENDAR